BEGIN:VCALENDAR
VERSION:2.0
PRODID:-//Hastings Prince Edward Public Health - ECPv6.15.20//NONSGML v1.0//EN
CALSCALE:GREGORIAN
METHOD:PUBLISH
X-WR-CALNAME:Hastings Prince Edward Public Health
X-ORIGINAL-URL:https://www.hpepublichealth.ca
X-WR-CALDESC:Events for Hastings Prince Edward Public Health
REFRESH-INTERVAL;VALUE=DURATION:PT1H
X-Robots-Tag:noindex
X-PUBLISHED-TTL:PT1H
BEGIN:VTIMEZONE
TZID:America/Thunder_Bay
BEGIN:DAYLIGHT
TZOFFSETFROM:-0500
TZOFFSETTO:-0400
TZNAME:EDT
DTSTART:20240310T070000
END:DAYLIGHT
BEGIN:STANDARD
TZOFFSETFROM:-0400
TZOFFSETTO:-0500
TZNAME:EST
DTSTART:20241103T060000
END:STANDARD
BEGIN:DAYLIGHT
TZOFFSETFROM:-0500
TZOFFSETTO:-0400
TZNAME:EDT
DTSTART:20250309T070000
END:DAYLIGHT
BEGIN:STANDARD
TZOFFSETFROM:-0400
TZOFFSETTO:-0500
TZNAME:EST
DTSTART:20251102T060000
END:STANDARD
BEGIN:DAYLIGHT
TZOFFSETFROM:-0500
TZOFFSETTO:-0400
TZNAME:EDT
DTSTART:20260308T070000
END:DAYLIGHT
BEGIN:STANDARD
TZOFFSETFROM:-0400
TZOFFSETTO:-0500
TZNAME:EST
DTSTART:20261101T060000
END:STANDARD
END:VTIMEZONE
BEGIN:VEVENT
DTSTART;TZID=America/Thunder_Bay:20251204T093000
DTEND;TZID=America/Thunder_Bay:20251204T113000
DTSTAMP:20260424T064223
CREATED:20250506T131535Z
LAST-MODIFIED:20250506T131535Z
UID:10002161-1764840600-1764847800@www.hpepublichealth.ca
SUMMARY:Steps to Wellness
DESCRIPTION:Hastings Prince Edward Public Health is now offering Cognitive Behavioural Therapy (CBT) for pregnant and new mothers with babies up to 12 months of age\, who have been feeling depressed\, down\, or anxious. CBT has been found to be an effective prevention strategy that targets thinking errors\, negative emotions and behaviours. CBT focuses on the interaction of thoughts\, emotions and behaviours and has been found to be beneficial as a treatment of Perinatal Mood Disorders – PMD (postpartum depression or anxiety). \nThe Steps to Wellness program is free and is an effective 9-week\, online\, group-based CBT series where participants will meet weekly in the virtual group setting with public health nurses to learn skills\, strategies and tools to help them manage their depression and anxiety. The Steps to Wellness program will provide women with the skills and tools they need to manage the symptoms of PMD and is of benefit to mothers and their families. \nFor more information\, or to see if this program is a good fit for you\, visit the Healthy Families Request for Support/Information page or call: 613-966-5500 / Toll-Free: 1-800-267-2803 ext. 223 Email: careline@hpeph.ca
URL:https://www.hpepublichealth.ca/event/steps-to-wellness-2/2025-12-04/
CATEGORIES:Steps to Wellness
END:VEVENT
BEGIN:VEVENT
DTSTART;TZID=America/Thunder_Bay:20251211T093000
DTEND;TZID=America/Thunder_Bay:20251211T113000
DTSTAMP:20260424T064223
CREATED:20250506T131535Z
LAST-MODIFIED:20250506T131535Z
UID:10002162-1765445400-1765452600@www.hpepublichealth.ca
SUMMARY:Steps to Wellness
DESCRIPTION:Hastings Prince Edward Public Health is now offering Cognitive Behavioural Therapy (CBT) for pregnant and new mothers with babies up to 12 months of age\, who have been feeling depressed\, down\, or anxious. CBT has been found to be an effective prevention strategy that targets thinking errors\, negative emotions and behaviours. CBT focuses on the interaction of thoughts\, emotions and behaviours and has been found to be beneficial as a treatment of Perinatal Mood Disorders – PMD (postpartum depression or anxiety). \nThe Steps to Wellness program is free and is an effective 9-week\, online\, group-based CBT series where participants will meet weekly in the virtual group setting with public health nurses to learn skills\, strategies and tools to help them manage their depression and anxiety. The Steps to Wellness program will provide women with the skills and tools they need to manage the symptoms of PMD and is of benefit to mothers and their families. \nFor more information\, or to see if this program is a good fit for you\, visit the Healthy Families Request for Support/Information page or call: 613-966-5500 / Toll-Free: 1-800-267-2803 ext. 223 Email: careline@hpeph.ca
URL:https://www.hpepublichealth.ca/event/steps-to-wellness-2/2025-12-11/
CATEGORIES:Steps to Wellness
END:VEVENT
BEGIN:VEVENT
DTSTART;TZID=America/Thunder_Bay:20251218T093000
DTEND;TZID=America/Thunder_Bay:20251218T113000
DTSTAMP:20260424T064223
CREATED:20250506T131535Z
LAST-MODIFIED:20250506T131535Z
UID:10002163-1766050200-1766057400@www.hpepublichealth.ca
SUMMARY:Steps to Wellness
DESCRIPTION:Hastings Prince Edward Public Health is now offering Cognitive Behavioural Therapy (CBT) for pregnant and new mothers with babies up to 12 months of age\, who have been feeling depressed\, down\, or anxious. CBT has been found to be an effective prevention strategy that targets thinking errors\, negative emotions and behaviours. CBT focuses on the interaction of thoughts\, emotions and behaviours and has been found to be beneficial as a treatment of Perinatal Mood Disorders – PMD (postpartum depression or anxiety). \nThe Steps to Wellness program is free and is an effective 9-week\, online\, group-based CBT series where participants will meet weekly in the virtual group setting with public health nurses to learn skills\, strategies and tools to help them manage their depression and anxiety. The Steps to Wellness program will provide women with the skills and tools they need to manage the symptoms of PMD and is of benefit to mothers and their families. \nFor more information\, or to see if this program is a good fit for you\, visit the Healthy Families Request for Support/Information page or call: 613-966-5500 / Toll-Free: 1-800-267-2803 ext. 223 Email: careline@hpeph.ca
URL:https://www.hpepublichealth.ca/event/steps-to-wellness-2/2025-12-18/
CATEGORIES:Steps to Wellness
END:VEVENT
END:VCALENDAR