BEGIN:VCALENDAR
VERSION:2.0
PRODID:-//Hastings Prince Edward Public Health - ECPv6.15.20//NONSGML v1.0//EN
CALSCALE:GREGORIAN
METHOD:PUBLISH
X-WR-CALNAME:Hastings Prince Edward Public Health
X-ORIGINAL-URL:https://www.hpepublichealth.ca
X-WR-CALDESC:Events for Hastings Prince Edward Public Health
REFRESH-INTERVAL;VALUE=DURATION:PT1H
X-Robots-Tag:noindex
X-PUBLISHED-TTL:PT1H
BEGIN:VTIMEZONE
TZID:America/Thunder_Bay
BEGIN:DAYLIGHT
TZOFFSETFROM:-0500
TZOFFSETTO:-0400
TZNAME:EDT
DTSTART:20230312T070000
END:DAYLIGHT
BEGIN:STANDARD
TZOFFSETFROM:-0400
TZOFFSETTO:-0500
TZNAME:EST
DTSTART:20231105T060000
END:STANDARD
BEGIN:DAYLIGHT
TZOFFSETFROM:-0500
TZOFFSETTO:-0400
TZNAME:EDT
DTSTART:20240310T070000
END:DAYLIGHT
BEGIN:STANDARD
TZOFFSETFROM:-0400
TZOFFSETTO:-0500
TZNAME:EST
DTSTART:20241103T060000
END:STANDARD
BEGIN:DAYLIGHT
TZOFFSETFROM:-0500
TZOFFSETTO:-0400
TZNAME:EDT
DTSTART:20250309T070000
END:DAYLIGHT
BEGIN:STANDARD
TZOFFSETFROM:-0400
TZOFFSETTO:-0500
TZNAME:EST
DTSTART:20251102T060000
END:STANDARD
END:VTIMEZONE
BEGIN:VEVENT
DTSTART;TZID=America/Thunder_Bay:20240801T120000
DTEND;TZID=America/Thunder_Bay:20240801T180000
DTSTAMP:20260425T225130
CREATED:20240419T153407Z
LAST-MODIFIED:20241217T162834Z
UID:10001558-1722513600-1722535200@www.hpepublichealth.ca
SUMMARY:Belleville Kids Dental Clinic
DESCRIPTION:Public Health offers free preventive dental clinics to eligible children and teens up to the age of 17. For more information\, check out our Dental Services for Kids page. \nAppointments are required. \nTo determine your child’s eligibility\, please call 613-966-5500 or 1-800-267-2803\, ext. 680.
URL:https://www.hpepublichealth.ca/event/belleville-kids-dental-clinic/2024-08-01/
LOCATION:Public Health Belleville Office\, 179 N Park St\, Belleville\, Ontario\, K8P 4P1
CATEGORIES:Clinics,Dental Health Clinic
END:VEVENT
BEGIN:VEVENT
DTSTART;TZID=America/Thunder_Bay:20240808T120000
DTEND;TZID=America/Thunder_Bay:20240808T180000
DTSTAMP:20260425T225130
CREATED:20240419T153407Z
LAST-MODIFIED:20241217T162834Z
UID:10001559-1723118400-1723140000@www.hpepublichealth.ca
SUMMARY:Belleville Kids Dental Clinic
DESCRIPTION:Public Health offers free preventive dental clinics to eligible children and teens up to the age of 17. For more information\, check out our Dental Services for Kids page. \nAppointments are required. \nTo determine your child’s eligibility\, please call 613-966-5500 or 1-800-267-2803\, ext. 680.
URL:https://www.hpepublichealth.ca/event/belleville-kids-dental-clinic/2024-08-08/
LOCATION:Public Health Belleville Office\, 179 N Park St\, Belleville\, Ontario\, K8P 4P1
CATEGORIES:Clinics,Dental Health Clinic
END:VEVENT
BEGIN:VEVENT
DTSTART;TZID=America/Thunder_Bay:20240814T093000
DTEND;TZID=America/Thunder_Bay:20240814T150000
DTSTAMP:20260425T225130
CREATED:20240419T154743Z
LAST-MODIFIED:20241217T164033Z
UID:10001594-1723627800-1723647600@www.hpepublichealth.ca
SUMMARY:Trenton Kids Dental Clinic
DESCRIPTION:Public Health offers free preventive dental clinics to eligible children and teens up to the age of 17. For more information\, check out our Dental Services for Kids page. \nAppointments are required. \nTo determine your child’s eligibility\, please call 613-966-5500 or 1-800-267-2803\, ext. 680.
URL:https://www.hpepublichealth.ca/event/trenton-kids-dental-clinic/2024-08-14/
LOCATION:Public Health Quinte West Office\, 499 Dundas Street West\, Trenton\, Ontario\, K8V 6C4
CATEGORIES:Clinics,Dental Health Clinic
END:VEVENT
BEGIN:VEVENT
DTSTART;TZID=America/Thunder_Bay:20240815T120000
DTEND;TZID=America/Thunder_Bay:20240815T180000
DTSTAMP:20260425T225130
CREATED:20240419T153407Z
LAST-MODIFIED:20241217T162834Z
UID:10001560-1723723200-1723744800@www.hpepublichealth.ca
SUMMARY:Belleville Kids Dental Clinic
DESCRIPTION:Public Health offers free preventive dental clinics to eligible children and teens up to the age of 17. For more information\, check out our Dental Services for Kids page. \nAppointments are required. \nTo determine your child’s eligibility\, please call 613-966-5500 or 1-800-267-2803\, ext. 680.
URL:https://www.hpepublichealth.ca/event/belleville-kids-dental-clinic/2024-08-15/
LOCATION:Public Health Belleville Office\, 179 N Park St\, Belleville\, Ontario\, K8P 4P1
CATEGORIES:Clinics,Dental Health Clinic
END:VEVENT
BEGIN:VEVENT
DTSTART;TZID=America/Thunder_Bay:20240819T100000
DTEND;TZID=America/Thunder_Bay:20240819T150000
DTSTAMP:20260425T225130
CREATED:20240419T154949Z
LAST-MODIFIED:20241217T164444Z
UID:10001601-1724061600-1724079600@www.hpepublichealth.ca
SUMMARY:Picton Kids Dental Clinic
DESCRIPTION:Public Health offers free preventive dental clinics to eligible children and teens up to the age of 17. For more information\, check out our Dental Services for Kids page. \n\nAppointments are required. \n\nTo determine your child’s eligibility\, please call 613-966-5500 or 1-800-267-2803\, ext. 680.
URL:https://www.hpepublichealth.ca/event/picton-kids-dental-clinic/2024-08-19/
LOCATION:Public Health Prince Edward County Office\, 35 Bridge Street\, Suite 1\, Picton\, Ontario\, K0K 2T0
CATEGORIES:Clinics,Dental Health Clinic
END:VEVENT
BEGIN:VEVENT
DTSTART;TZID=America/Thunder_Bay:20240822T120000
DTEND;TZID=America/Thunder_Bay:20240822T180000
DTSTAMP:20260425T225130
CREATED:20240419T153407Z
LAST-MODIFIED:20241217T162834Z
UID:10001561-1724328000-1724349600@www.hpepublichealth.ca
SUMMARY:Belleville Kids Dental Clinic
DESCRIPTION:Public Health offers free preventive dental clinics to eligible children and teens up to the age of 17. For more information\, check out our Dental Services for Kids page. \nAppointments are required. \nTo determine your child’s eligibility\, please call 613-966-5500 or 1-800-267-2803\, ext. 680.
URL:https://www.hpepublichealth.ca/event/belleville-kids-dental-clinic/2024-08-22/
LOCATION:Public Health Belleville Office\, 179 N Park St\, Belleville\, Ontario\, K8P 4P1
CATEGORIES:Clinics,Dental Health Clinic
END:VEVENT
BEGIN:VEVENT
DTSTART;TZID=America/Thunder_Bay:20240829T090000
DTEND;TZID=America/Thunder_Bay:20240829T160000
DTSTAMP:20260425T225130
CREATED:20240419T153819Z
LAST-MODIFIED:20240419T155011Z
UID:10001579-1724922000-1724947200@www.hpepublichealth.ca
SUMMARY:Belleville Kids Dental Clinic
DESCRIPTION:Public Health offers free preventive dental clinics to eligible children and teens up to the age of 17. For more information\, check out our Dental Services for Kids page. \nAppointments are required. \nTo determine your child’s eligibility\, please call 613-966-5500 or 1-800-267-2803\, ext. 680.
URL:https://www.hpepublichealth.ca/event/belleville-kids-dental-clinic-2/2024-08-29/
LOCATION:Public Health Belleville Office\, 179 N Park St\, Belleville\, Ontario\, K8P 4P1
CATEGORIES:Clinics,Dental Health Clinic
END:VEVENT
END:VCALENDAR