BEGIN:VCALENDAR
VERSION:2.0
PRODID:-//Hastings Prince Edward Public Health - ECPv6.15.20//NONSGML v1.0//EN
CALSCALE:GREGORIAN
METHOD:PUBLISH
X-WR-CALNAME:Hastings Prince Edward Public Health
X-ORIGINAL-URL:https://www.hpepublichealth.ca
X-WR-CALDESC:Events for Hastings Prince Edward Public Health
REFRESH-INTERVAL;VALUE=DURATION:PT1H
X-Robots-Tag:noindex
X-PUBLISHED-TTL:PT1H
BEGIN:VTIMEZONE
TZID:America/Thunder_Bay
BEGIN:DAYLIGHT
TZOFFSETFROM:-0500
TZOFFSETTO:-0400
TZNAME:EDT
DTSTART:20230312T070000
END:DAYLIGHT
BEGIN:STANDARD
TZOFFSETFROM:-0400
TZOFFSETTO:-0500
TZNAME:EST
DTSTART:20231105T060000
END:STANDARD
BEGIN:DAYLIGHT
TZOFFSETFROM:-0500
TZOFFSETTO:-0400
TZNAME:EDT
DTSTART:20240310T070000
END:DAYLIGHT
BEGIN:STANDARD
TZOFFSETFROM:-0400
TZOFFSETTO:-0500
TZNAME:EST
DTSTART:20241103T060000
END:STANDARD
BEGIN:DAYLIGHT
TZOFFSETFROM:-0500
TZOFFSETTO:-0400
TZNAME:EDT
DTSTART:20250309T070000
END:DAYLIGHT
BEGIN:STANDARD
TZOFFSETFROM:-0400
TZOFFSETTO:-0500
TZNAME:EST
DTSTART:20251102T060000
END:STANDARD
END:VTIMEZONE
BEGIN:VEVENT
DTSTART;TZID=America/Thunder_Bay:20240904T103000
DTEND;TZID=America/Thunder_Bay:20240904T140000
DTSTAMP:20260425T205240
CREATED:20240419T154509Z
LAST-MODIFIED:20250916T131211Z
UID:10001587-1725445800-1725458400@www.hpepublichealth.ca
SUMMARY:Bancroft Kids Dental Clinic
DESCRIPTION:Public Health offers free preventive dental clinics to eligible children and teens up to the age of 17. For more information\, check out our Dental Services for Kids page. \nAppointments are required. \nTo determine your child’s eligibility\, please call 613-966-5500 or 1-800-267-2803\, ext. 680.
URL:https://www.hpepublichealth.ca/event/bancroft-kids-dental-clinic/2024-09-04/
LOCATION:Public Health North Hastings Office\, 1 Manor Lane\, Bancroft\, Ontario\, K0L 1C0\, Canada
CATEGORIES:Clinics,Dental Health Clinic
END:VEVENT
BEGIN:VEVENT
DTSTART;TZID=America/Thunder_Bay:20240905T120000
DTEND;TZID=America/Thunder_Bay:20240905T180000
DTSTAMP:20260425T205240
CREATED:20240419T153407Z
LAST-MODIFIED:20241217T162834Z
UID:10001562-1725537600-1725559200@www.hpepublichealth.ca
SUMMARY:Belleville Kids Dental Clinic
DESCRIPTION:Public Health offers free preventive dental clinics to eligible children and teens up to the age of 17. For more information\, check out our Dental Services for Kids page. \nAppointments are required. \nTo determine your child’s eligibility\, please call 613-966-5500 or 1-800-267-2803\, ext. 680.
URL:https://www.hpepublichealth.ca/event/belleville-kids-dental-clinic/2024-09-05/
LOCATION:Public Health Belleville Office\, 179 N Park St\, Belleville\, Ontario\, K8P 4P1
CATEGORIES:Clinics,Dental Health Clinic
END:VEVENT
BEGIN:VEVENT
DTSTART;TZID=America/Thunder_Bay:20240911T093000
DTEND;TZID=America/Thunder_Bay:20240911T150000
DTSTAMP:20260425T205240
CREATED:20240419T154743Z
LAST-MODIFIED:20241217T164033Z
UID:10001595-1726047000-1726066800@www.hpepublichealth.ca
SUMMARY:Trenton Kids Dental Clinic
DESCRIPTION:Public Health offers free preventive dental clinics to eligible children and teens up to the age of 17. For more information\, check out our Dental Services for Kids page. \nAppointments are required. \nTo determine your child’s eligibility\, please call 613-966-5500 or 1-800-267-2803\, ext. 680.
URL:https://www.hpepublichealth.ca/event/trenton-kids-dental-clinic/2024-09-11/
LOCATION:Public Health Quinte West Office\, 499 Dundas Street West\, Trenton\, Ontario\, K8V 6C4
CATEGORIES:Clinics,Dental Health Clinic
END:VEVENT
BEGIN:VEVENT
DTSTART;TZID=America/Thunder_Bay:20240912T120000
DTEND;TZID=America/Thunder_Bay:20240912T180000
DTSTAMP:20260425T205240
CREATED:20240419T153407Z
LAST-MODIFIED:20241217T162834Z
UID:10001563-1726142400-1726164000@www.hpepublichealth.ca
SUMMARY:Belleville Kids Dental Clinic
DESCRIPTION:Public Health offers free preventive dental clinics to eligible children and teens up to the age of 17. For more information\, check out our Dental Services for Kids page. \nAppointments are required. \nTo determine your child’s eligibility\, please call 613-966-5500 or 1-800-267-2803\, ext. 680.
URL:https://www.hpepublichealth.ca/event/belleville-kids-dental-clinic/2024-09-12/
LOCATION:Public Health Belleville Office\, 179 N Park St\, Belleville\, Ontario\, K8P 4P1
CATEGORIES:Clinics,Dental Health Clinic
END:VEVENT
BEGIN:VEVENT
DTSTART;TZID=America/Thunder_Bay:20240916T100000
DTEND;TZID=America/Thunder_Bay:20240916T150000
DTSTAMP:20260425T205240
CREATED:20240419T154949Z
LAST-MODIFIED:20241217T164444Z
UID:10001602-1726480800-1726498800@www.hpepublichealth.ca
SUMMARY:Picton Kids Dental Clinic
DESCRIPTION:Public Health offers free preventive dental clinics to eligible children and teens up to the age of 17. For more information\, check out our Dental Services for Kids page. \n\nAppointments are required. \n\nTo determine your child’s eligibility\, please call 613-966-5500 or 1-800-267-2803\, ext. 680.
URL:https://www.hpepublichealth.ca/event/picton-kids-dental-clinic/2024-09-16/
LOCATION:Public Health Prince Edward County Office\, 35 Bridge Street\, Suite 1\, Picton\, Ontario\, K0K 2T0
CATEGORIES:Clinics,Dental Health Clinic
END:VEVENT
BEGIN:VEVENT
DTSTART;TZID=America/Thunder_Bay:20240919T120000
DTEND;TZID=America/Thunder_Bay:20240919T180000
DTSTAMP:20260425T205240
CREATED:20240419T153407Z
LAST-MODIFIED:20241217T162834Z
UID:10001564-1726747200-1726768800@www.hpepublichealth.ca
SUMMARY:Belleville Kids Dental Clinic
DESCRIPTION:Public Health offers free preventive dental clinics to eligible children and teens up to the age of 17. For more information\, check out our Dental Services for Kids page. \nAppointments are required. \nTo determine your child’s eligibility\, please call 613-966-5500 or 1-800-267-2803\, ext. 680.
URL:https://www.hpepublichealth.ca/event/belleville-kids-dental-clinic/2024-09-19/
LOCATION:Public Health Belleville Office\, 179 N Park St\, Belleville\, Ontario\, K8P 4P1
CATEGORIES:Clinics,Dental Health Clinic
END:VEVENT
BEGIN:VEVENT
DTSTART;TZID=America/Thunder_Bay:20240926T090000
DTEND;TZID=America/Thunder_Bay:20240926T160000
DTSTAMP:20260425T205240
CREATED:20240419T153819Z
LAST-MODIFIED:20240419T155011Z
UID:10001580-1727341200-1727366400@www.hpepublichealth.ca
SUMMARY:Belleville Kids Dental Clinic
DESCRIPTION:Public Health offers free preventive dental clinics to eligible children and teens up to the age of 17. For more information\, check out our Dental Services for Kids page. \nAppointments are required. \nTo determine your child’s eligibility\, please call 613-966-5500 or 1-800-267-2803\, ext. 680.
URL:https://www.hpepublichealth.ca/event/belleville-kids-dental-clinic-2/2024-09-26/
LOCATION:Public Health Belleville Office\, 179 N Park St\, Belleville\, Ontario\, K8P 4P1
CATEGORIES:Clinics,Dental Health Clinic
END:VEVENT
END:VCALENDAR