BEGIN:VCALENDAR
VERSION:2.0
PRODID:-//Hastings Prince Edward Public Health - ECPv6.15.20//NONSGML v1.0//EN
CALSCALE:GREGORIAN
METHOD:PUBLISH
X-WR-CALNAME:Hastings Prince Edward Public Health
X-ORIGINAL-URL:https://www.hpepublichealth.ca
X-WR-CALDESC:Events for Hastings Prince Edward Public Health
REFRESH-INTERVAL;VALUE=DURATION:PT1H
X-Robots-Tag:noindex
X-PUBLISHED-TTL:PT1H
BEGIN:VTIMEZONE
TZID:America/Thunder_Bay
BEGIN:DAYLIGHT
TZOFFSETFROM:-0500
TZOFFSETTO:-0400
TZNAME:EDT
DTSTART:20210314T070000
END:DAYLIGHT
BEGIN:STANDARD
TZOFFSETFROM:-0400
TZOFFSETTO:-0500
TZNAME:EST
DTSTART:20211107T060000
END:STANDARD
BEGIN:DAYLIGHT
TZOFFSETFROM:-0500
TZOFFSETTO:-0400
TZNAME:EDT
DTSTART:20220313T070000
END:DAYLIGHT
BEGIN:STANDARD
TZOFFSETFROM:-0400
TZOFFSETTO:-0500
TZNAME:EST
DTSTART:20221106T060000
END:STANDARD
BEGIN:DAYLIGHT
TZOFFSETFROM:-0500
TZOFFSETTO:-0400
TZNAME:EDT
DTSTART:20230312T070000
END:DAYLIGHT
BEGIN:STANDARD
TZOFFSETFROM:-0400
TZOFFSETTO:-0500
TZNAME:EST
DTSTART:20231105T060000
END:STANDARD
BEGIN:DAYLIGHT
TZOFFSETFROM:-0500
TZOFFSETTO:-0400
TZNAME:EDT
DTSTART:20240310T070000
END:DAYLIGHT
BEGIN:STANDARD
TZOFFSETFROM:-0400
TZOFFSETTO:-0500
TZNAME:EST
DTSTART:20241103T060000
END:STANDARD
END:VTIMEZONE
BEGIN:VEVENT
DTSTART;TZID=America/Thunder_Bay:20230106T093000
DTEND;TZID=America/Thunder_Bay:20230106T153000
DTSTAMP:20260424T232118
CREATED:20221107T153818Z
LAST-MODIFIED:20230103T174036Z
UID:10000943-1672997400-1673019000@www.hpepublichealth.ca
SUMMARY:Belleville Flu Clinic
DESCRIPTION:HPEPH is offering flu vaccines for individuals aged 6 months and over \nLocation:\nHPEPH Belleville Office\n179 North Park St\nBelleville\, ON \nAppointments are required. Book online at www.canadaehs.com/hpepublichealth or call the Immunization Program at 613-966-5500 or 1-800-267-2803\, ext. 221.
URL:https://www.hpepublichealth.ca/event/belleville-flu-clinic-for-ages-6-months-to-5-years-2023-01-06/
LOCATION:Public Health Belleville Office\, 179 N Park St\, Belleville\, Ontario\, K8P 4P1
CATEGORIES:Clinics,Influenza Clinic
END:VEVENT
BEGIN:VEVENT
DTSTART;TZID=America/Thunder_Bay:20230103T090000
DTEND;TZID=America/Thunder_Bay:20230103T153000
DTSTAMP:20260424T232118
CREATED:20221107T153818Z
LAST-MODIFIED:20221220T154924Z
UID:10000942-1672736400-1672759800@www.hpepublichealth.ca
SUMMARY:Belleville Flu Clinic for ages 6 months to 5 years
DESCRIPTION:HPEPH is offering flu vaccines for children aged 6 months to 5 years. \nLocation:\nHPEPH Belleville Office\n179 North Park St\nBelleville\, ON \nAppointments are required. Book online at www.canadaehs.com/hpepublichealth or call the Immunization Program at 613-966-5500 or 1-800-267-2803\, ext. 221.
URL:https://www.hpepublichealth.ca/event/belleville-flu-clinic-for-ages-6-months-to-5-years/2023-01-03/
LOCATION:Public Health Belleville Office\, 179 N Park St\, Belleville\, Ontario\, K8P 4P1
CATEGORIES:Clinics,Influenza Clinic
END:VEVENT
BEGIN:VEVENT
DTSTART;TZID=America/Thunder_Bay:20221208T090000
DTEND;TZID=America/Thunder_Bay:20221208T153000
DTSTAMP:20260424T232118
CREATED:20221107T153818Z
LAST-MODIFIED:20221220T154924Z
UID:10000941-1670490000-1670513400@www.hpepublichealth.ca
SUMMARY:Belleville Flu Clinic for ages 6 months to 5 years
DESCRIPTION:HPEPH is offering flu vaccines for children aged 6 months to 5 years. \nLocation:\nHPEPH Belleville Office\n179 North Park St\nBelleville\, ON \nAppointments are required. Book online at www.canadaehs.com/hpepublichealth or call the Immunization Program at 613-966-5500 or 1-800-267-2803\, ext. 221.
URL:https://www.hpepublichealth.ca/event/belleville-flu-clinic-for-ages-6-months-to-5-years/2022-12-08/
LOCATION:Public Health Belleville Office\, 179 N Park St\, Belleville\, Ontario\, K8P 4P1
CATEGORIES:Clinics,Influenza Clinic
END:VEVENT
BEGIN:VEVENT
DTSTART;TZID=America/Thunder_Bay:20221205T090000
DTEND;TZID=America/Thunder_Bay:20221205T153000
DTSTAMP:20260424T232118
CREATED:20221107T153818Z
LAST-MODIFIED:20221220T154924Z
UID:10000940-1670230800-1670254200@www.hpepublichealth.ca
SUMMARY:Belleville Flu Clinic for ages 6 months to 5 years
DESCRIPTION:HPEPH is offering flu vaccines for children aged 6 months to 5 years. \nLocation:\nHPEPH Belleville Office\n179 North Park St\nBelleville\, ON \nAppointments are required. Book online at www.canadaehs.com/hpepublichealth or call the Immunization Program at 613-966-5500 or 1-800-267-2803\, ext. 221.
URL:https://www.hpepublichealth.ca/event/belleville-flu-clinic-for-ages-6-months-to-5-years/2022-12-05/
LOCATION:Public Health Belleville Office\, 179 N Park St\, Belleville\, Ontario\, K8P 4P1
CATEGORIES:Clinics,Influenza Clinic
END:VEVENT
BEGIN:VEVENT
DTSTART;TZID=America/Thunder_Bay:20221125T090000
DTEND;TZID=America/Thunder_Bay:20221125T153000
DTSTAMP:20260424T232118
CREATED:20221107T153818Z
LAST-MODIFIED:20221220T154924Z
UID:10000939-1669366800-1669390200@www.hpepublichealth.ca
SUMMARY:Belleville Flu Clinic for ages 6 months to 5 years
DESCRIPTION:HPEPH is offering flu vaccines for children aged 6 months to 5 years. \nLocation:\nHPEPH Belleville Office\n179 North Park St\nBelleville\, ON \nAppointments are required. Book online at www.canadaehs.com/hpepublichealth or call the Immunization Program at 613-966-5500 or 1-800-267-2803\, ext. 221.
URL:https://www.hpepublichealth.ca/event/belleville-flu-clinic-for-ages-6-months-to-5-years/2022-11-25/
LOCATION:Public Health Belleville Office\, 179 N Park St\, Belleville\, Ontario\, K8P 4P1
CATEGORIES:Clinics,Influenza Clinic
END:VEVENT
BEGIN:VEVENT
DTSTART;TZID=America/Thunder_Bay:20221116T090000
DTEND;TZID=America/Thunder_Bay:20221116T153000
DTSTAMP:20260424T232118
CREATED:20221107T153818Z
LAST-MODIFIED:20221220T154924Z
UID:10000938-1668589200-1668612600@www.hpepublichealth.ca
SUMMARY:Belleville Flu Clinic for ages 6 months to 5 years
DESCRIPTION:HPEPH is offering flu vaccines for children aged 6 months to 5 years. \nLocation:\nHPEPH Belleville Office\n179 North Park St\nBelleville\, ON \nAppointments are required. Book online at www.canadaehs.com/hpepublichealth or call the Immunization Program at 613-966-5500 or 1-800-267-2803\, ext. 221.
URL:https://www.hpepublichealth.ca/event/belleville-flu-clinic-for-ages-6-months-to-5-years/2022-11-16/
LOCATION:Public Health Belleville Office\, 179 N Park St\, Belleville\, Ontario\, K8P 4P1
CATEGORIES:Clinics,Influenza Clinic
END:VEVENT
END:VCALENDAR