BEGIN:VCALENDAR
VERSION:2.0
PRODID:-//Hastings Prince Edward Public Health - ECPv6.15.20//NONSGML v1.0//EN
CALSCALE:GREGORIAN
METHOD:PUBLISH
X-WR-CALNAME:Hastings Prince Edward Public Health
X-ORIGINAL-URL:https://www.hpepublichealth.ca
X-WR-CALDESC:Events for Hastings Prince Edward Public Health
REFRESH-INTERVAL;VALUE=DURATION:PT1H
X-Robots-Tag:noindex
X-PUBLISHED-TTL:PT1H
BEGIN:VTIMEZONE
TZID:America/Toronto
BEGIN:DAYLIGHT
TZOFFSETFROM:-0500
TZOFFSETTO:-0400
TZNAME:EDT
DTSTART:20210314T070000
END:DAYLIGHT
BEGIN:STANDARD
TZOFFSETFROM:-0400
TZOFFSETTO:-0500
TZNAME:EST
DTSTART:20211107T060000
END:STANDARD
BEGIN:DAYLIGHT
TZOFFSETFROM:-0500
TZOFFSETTO:-0400
TZNAME:EDT
DTSTART:20220313T070000
END:DAYLIGHT
BEGIN:STANDARD
TZOFFSETFROM:-0400
TZOFFSETTO:-0500
TZNAME:EST
DTSTART:20221106T060000
END:STANDARD
BEGIN:DAYLIGHT
TZOFFSETFROM:-0500
TZOFFSETTO:-0400
TZNAME:EDT
DTSTART:20230312T070000
END:DAYLIGHT
BEGIN:STANDARD
TZOFFSETFROM:-0400
TZOFFSETTO:-0500
TZNAME:EST
DTSTART:20231105T060000
END:STANDARD
END:VTIMEZONE
BEGIN:VEVENT
DTSTART;TZID=America/Toronto:20221215T100000
DTEND;TZID=America/Toronto:20221215T160000
DTSTAMP:20260424T103102
CREATED:20221017T150039Z
LAST-MODIFIED:20221017T150039Z
UID:10001309-1671098400-1671120000@www.hpepublichealth.ca
SUMMARY:Bancroft COVID-19 Vaccination Clinic
DESCRIPTION:Clinic for individuals aged 6 months and over for any dose of COVID-19 for which they are eligible. Eligibility criteria can be reviewed on the HPEPH COVID-19 Vaccines page. \nAppointments are required\n \nCall 613 332-2825 ext 6227 to book
URL:https://www.hpepublichealth.ca/event/bancroft-covid-19-vaccination-clinic/2022-12-15/
LOCATION:Bancroft Hospital Professional Building\, 1 Manor Lane\, Bancroft\, Ontario\, K0L 1C0\, Canada
CATEGORIES:Clinics,COVID-19 Vaccination Clinic
END:VEVENT
BEGIN:VEVENT
DTSTART;TZID=America/Toronto:20221208T100000
DTEND;TZID=America/Toronto:20221208T160000
DTSTAMP:20260424T103103
CREATED:20221017T150039Z
LAST-MODIFIED:20221017T150039Z
UID:10001308-1670493600-1670515200@www.hpepublichealth.ca
SUMMARY:Bancroft COVID-19 Vaccination Clinic
DESCRIPTION:Clinic for individuals aged 6 months and over for any dose of COVID-19 for which they are eligible. Eligibility criteria can be reviewed on the HPEPH COVID-19 Vaccines page. \nAppointments are required\n \nCall 613 332-2825 ext 6227 to book
URL:https://www.hpepublichealth.ca/event/bancroft-covid-19-vaccination-clinic/2022-12-08/
LOCATION:Bancroft Hospital Professional Building\, 1 Manor Lane\, Bancroft\, Ontario\, K0L 1C0\, Canada
CATEGORIES:Clinics,COVID-19 Vaccination Clinic
END:VEVENT
BEGIN:VEVENT
DTSTART;TZID=America/Toronto:20221201T100000
DTEND;TZID=America/Toronto:20221201T160000
DTSTAMP:20260424T103103
CREATED:20221017T150039Z
LAST-MODIFIED:20221017T150039Z
UID:10001307-1669888800-1669910400@www.hpepublichealth.ca
SUMMARY:Bancroft COVID-19 Vaccination Clinic
DESCRIPTION:Clinic for individuals aged 6 months and over for any dose of COVID-19 for which they are eligible. Eligibility criteria can be reviewed on the HPEPH COVID-19 Vaccines page. \nAppointments are required\n \nCall 613 332-2825 ext 6227 to book
URL:https://www.hpepublichealth.ca/event/bancroft-covid-19-vaccination-clinic/2022-12-01/
LOCATION:Bancroft Hospital Professional Building\, 1 Manor Lane\, Bancroft\, Ontario\, K0L 1C0\, Canada
CATEGORIES:Clinics,COVID-19 Vaccination Clinic
END:VEVENT
BEGIN:VEVENT
DTSTART;TZID=America/Toronto:20221124T100000
DTEND;TZID=America/Toronto:20221124T160000
DTSTAMP:20260424T103103
CREATED:20221017T150039Z
LAST-MODIFIED:20221017T150039Z
UID:10001306-1669284000-1669305600@www.hpepublichealth.ca
SUMMARY:Bancroft COVID-19 Vaccination Clinic
DESCRIPTION:Clinic for individuals aged 6 months and over for any dose of COVID-19 for which they are eligible. Eligibility criteria can be reviewed on the HPEPH COVID-19 Vaccines page. \nAppointments are required\n \nCall 613 332-2825 ext 6227 to book
URL:https://www.hpepublichealth.ca/event/bancroft-covid-19-vaccination-clinic/2022-11-24/
LOCATION:Bancroft Hospital Professional Building\, 1 Manor Lane\, Bancroft\, Ontario\, K0L 1C0\, Canada
CATEGORIES:Clinics,COVID-19 Vaccination Clinic
END:VEVENT
BEGIN:VEVENT
DTSTART;TZID=America/Toronto:20221117T100000
DTEND;TZID=America/Toronto:20221117T160000
DTSTAMP:20260424T103103
CREATED:20221017T150039Z
LAST-MODIFIED:20221017T150039Z
UID:10001305-1668679200-1668700800@www.hpepublichealth.ca
SUMMARY:Bancroft COVID-19 Vaccination Clinic
DESCRIPTION:Clinic for individuals aged 6 months and over for any dose of COVID-19 for which they are eligible. Eligibility criteria can be reviewed on the HPEPH COVID-19 Vaccines page. \nAppointments are required\n \nCall 613 332-2825 ext 6227 to book
URL:https://www.hpepublichealth.ca/event/bancroft-covid-19-vaccination-clinic/2022-11-17/
LOCATION:Bancroft Hospital Professional Building\, 1 Manor Lane\, Bancroft\, Ontario\, K0L 1C0\, Canada
CATEGORIES:Clinics,COVID-19 Vaccination Clinic
END:VEVENT
BEGIN:VEVENT
DTSTART;TZID=America/Toronto:20221110T100000
DTEND;TZID=America/Toronto:20221110T160000
DTSTAMP:20260424T103103
CREATED:20221017T150039Z
LAST-MODIFIED:20221017T150039Z
UID:10001304-1668074400-1668096000@www.hpepublichealth.ca
SUMMARY:Bancroft COVID-19 Vaccination Clinic
DESCRIPTION:Clinic for individuals aged 6 months and over for any dose of COVID-19 for which they are eligible. Eligibility criteria can be reviewed on the HPEPH COVID-19 Vaccines page. \nAppointments are required\n \nCall 613 332-2825 ext 6227 to book
URL:https://www.hpepublichealth.ca/event/bancroft-covid-19-vaccination-clinic/2022-11-10/
LOCATION:Bancroft Hospital Professional Building\, 1 Manor Lane\, Bancroft\, Ontario\, K0L 1C0\, Canada
CATEGORIES:Clinics,COVID-19 Vaccination Clinic
END:VEVENT
BEGIN:VEVENT
DTSTART;TZID=America/Toronto:20221103T100000
DTEND;TZID=America/Toronto:20221103T160000
DTSTAMP:20260424T103103
CREATED:20221017T150039Z
LAST-MODIFIED:20221017T150039Z
UID:10001303-1667469600-1667491200@www.hpepublichealth.ca
SUMMARY:Bancroft COVID-19 Vaccination Clinic
DESCRIPTION:Clinic for individuals aged 6 months and over for any dose of COVID-19 for which they are eligible. Eligibility criteria can be reviewed on the HPEPH COVID-19 Vaccines page. \nAppointments are required\n \nCall 613 332-2825 ext 6227 to book
URL:https://www.hpepublichealth.ca/event/bancroft-covid-19-vaccination-clinic/2022-11-03/
LOCATION:Bancroft Hospital Professional Building\, 1 Manor Lane\, Bancroft\, Ontario\, K0L 1C0\, Canada
CATEGORIES:Clinics,COVID-19 Vaccination Clinic
END:VEVENT
BEGIN:VEVENT
DTSTART;TZID=America/Toronto:20221027T100000
DTEND;TZID=America/Toronto:20221027T160000
DTSTAMP:20260424T103103
CREATED:20221017T150039Z
LAST-MODIFIED:20221017T150039Z
UID:10001302-1666864800-1666886400@www.hpepublichealth.ca
SUMMARY:Bancroft COVID-19 Vaccination Clinic
DESCRIPTION:Clinic for individuals aged 6 months and over for any dose of COVID-19 for which they are eligible. Eligibility criteria can be reviewed on the HPEPH COVID-19 Vaccines page. \nAppointments are required\n \nCall 613 332-2825 ext 6227 to book
URL:https://www.hpepublichealth.ca/event/bancroft-covid-19-vaccination-clinic/2022-10-27/
LOCATION:Bancroft Hospital Professional Building\, 1 Manor Lane\, Bancroft\, Ontario\, K0L 1C0\, Canada
CATEGORIES:Clinics,COVID-19 Vaccination Clinic
END:VEVENT
BEGIN:VEVENT
DTSTART;TZID=America/Toronto:20221020T100000
DTEND;TZID=America/Toronto:20221020T160000
DTSTAMP:20260424T103103
CREATED:20221017T150039Z
LAST-MODIFIED:20221017T150039Z
UID:10001301-1666260000-1666281600@www.hpepublichealth.ca
SUMMARY:Bancroft COVID-19 Vaccination Clinic
DESCRIPTION:Clinic for individuals aged 6 months and over for any dose of COVID-19 for which they are eligible. Eligibility criteria can be reviewed on the HPEPH COVID-19 Vaccines page. \nAppointments are required\n \nCall 613 332-2825 ext 6227 to book
URL:https://www.hpepublichealth.ca/event/bancroft-covid-19-vaccination-clinic/2022-10-20/
LOCATION:Bancroft Hospital Professional Building\, 1 Manor Lane\, Bancroft\, Ontario\, K0L 1C0\, Canada
CATEGORIES:Clinics,COVID-19 Vaccination Clinic
END:VEVENT
END:VCALENDAR