BEGIN:VCALENDAR
VERSION:2.0
PRODID:-//Hastings Prince Edward Public Health - ECPv6.15.20//NONSGML v1.0//EN
CALSCALE:GREGORIAN
METHOD:PUBLISH
X-ORIGINAL-URL:https://www.hpepublichealth.ca
X-WR-CALDESC:Events for Hastings Prince Edward Public Health
REFRESH-INTERVAL;VALUE=DURATION:PT1H
X-Robots-Tag:noindex
X-PUBLISHED-TTL:PT1H
BEGIN:VTIMEZONE
TZID:America/Thunder_Bay
BEGIN:DAYLIGHT
TZOFFSETFROM:-0500
TZOFFSETTO:-0400
TZNAME:EDT
DTSTART:20220313T070000
END:DAYLIGHT
BEGIN:STANDARD
TZOFFSETFROM:-0400
TZOFFSETTO:-0500
TZNAME:EST
DTSTART:20221106T060000
END:STANDARD
BEGIN:DAYLIGHT
TZOFFSETFROM:-0500
TZOFFSETTO:-0400
TZNAME:EDT
DTSTART:20230312T070000
END:DAYLIGHT
BEGIN:STANDARD
TZOFFSETFROM:-0400
TZOFFSETTO:-0500
TZNAME:EST
DTSTART:20231105T060000
END:STANDARD
BEGIN:DAYLIGHT
TZOFFSETFROM:-0500
TZOFFSETTO:-0400
TZNAME:EDT
DTSTART:20240310T070000
END:DAYLIGHT
BEGIN:STANDARD
TZOFFSETFROM:-0400
TZOFFSETTO:-0500
TZNAME:EST
DTSTART:20241103T060000
END:STANDARD
END:VTIMEZONE
BEGIN:VEVENT
DTSTART;TZID=America/Thunder_Bay:20230412T140000
DTEND;TZID=America/Thunder_Bay:20230412T180000
DTSTAMP:20260424T191926
CREATED:20230411T205214Z
LAST-MODIFIED:20230411T205214Z
UID:10001024-1681308000-1681322400@www.hpepublichealth.ca
SUMMARY:North Hastings HS Walk-in Immunization Clinic (individuals who received an order of suspension letter ONLY.)
DESCRIPTION:Walk-in immunization clinic for individuals who received an order of suspension letter ONLY. \nClinic is available to elementary and secondary students who have received a suspension letter.
URL:https://www.hpepublichealth.ca/event/north-hastings-hs-walk-in-immunization-clinic-individuals-who-received-an-order-of-suspension-letter-only/
LOCATION:North Hastings Highschool\, 14 Monck St\, Bancroft\, Ontario\, K0L 1C0\, Canada
CATEGORIES:Clinics,Immunization Clinic
END:VEVENT
END:VCALENDAR