BEGIN:VCALENDAR
VERSION:2.0
PRODID:-//Hastings Prince Edward Public Health - ECPv6.15.20//NONSGML v1.0//EN
CALSCALE:GREGORIAN
METHOD:PUBLISH
X-ORIGINAL-URL:https://www.hpepublichealth.ca
X-WR-CALDESC:Events for Hastings Prince Edward Public Health
REFRESH-INTERVAL;VALUE=DURATION:PT1H
X-Robots-Tag:noindex
X-PUBLISHED-TTL:PT1H
BEGIN:VTIMEZONE
TZID:America/Toronto
BEGIN:DAYLIGHT
TZOFFSETFROM:-0500
TZOFFSETTO:-0400
TZNAME:EDT
DTSTART:20210314T070000
END:DAYLIGHT
BEGIN:STANDARD
TZOFFSETFROM:-0400
TZOFFSETTO:-0500
TZNAME:EST
DTSTART:20211107T060000
END:STANDARD
BEGIN:DAYLIGHT
TZOFFSETFROM:-0500
TZOFFSETTO:-0400
TZNAME:EDT
DTSTART:20220313T070000
END:DAYLIGHT
BEGIN:STANDARD
TZOFFSETFROM:-0400
TZOFFSETTO:-0500
TZNAME:EST
DTSTART:20221106T060000
END:STANDARD
BEGIN:DAYLIGHT
TZOFFSETFROM:-0500
TZOFFSETTO:-0400
TZNAME:EDT
DTSTART:20230312T070000
END:DAYLIGHT
BEGIN:STANDARD
TZOFFSETFROM:-0400
TZOFFSETTO:-0500
TZNAME:EST
DTSTART:20231105T060000
END:STANDARD
END:VTIMEZONE
BEGIN:VEVENT
DTSTART;TZID=America/Toronto:20220524T120000
DTEND;TZID=America/Toronto:20220524T153000
DTSTAMP:20260424T103321
CREATED:20220503T133833Z
LAST-MODIFIED:20220920T184526Z
UID:10001186-1653393600-1653406200@www.hpepublichealth.ca
SUMMARY:Parkdale Community Centre COVID-19 Vaccination Clinic
DESCRIPTION:Clinic for individuals aged 5 and over for any dose of COVID-19 vaccine for which they are eligible. Eligibility criteria can be reviewed on the HPEPH COVID-19 Vaccines page. \nAppointments are required. \nAll eligible individuals who have a green Ontario photo health card (expired cards accepted) may book an appointment through the provincial booking site\, or by calling the Provincial Vaccine Contact Centre at 1-833-943-3900 from 8 am to 8 pm\, 7 days a week. \nIndividuals with a red and white Ontario health card may book an appointment through the Provincial Vaccine Contact Centre by phone at 1-833-943-3900. \nIndividuals who do not have an Ontario health card must contact HPEPH at 613-966-5500. HPEPH staff will assign a COVID ID (a unique number to be used in place of an Ontario health card number). Individuals with a COVID ID may book an appointment through the Provincial Vaccine Contact Centre by phone at 1-833-943-3900.
URL:https://www.hpepublichealth.ca/event/parkdale-community-centre-covid-19-vaccination-clinic/2022-05-24/
LOCATION:Parkdale Community Centre\, 119 Birch St\, Belleville\, Ontario\, K8P 2P7\, Canada
CATEGORIES:Clinics,COVID-19 Vaccination Clinic
END:VEVENT
BEGIN:VEVENT
DTSTART;TZID=America/Toronto:20220520T090000
DTEND;TZID=America/Toronto:20220520T153000
DTSTAMP:20260424T103321
CREATED:20220503T133833Z
LAST-MODIFIED:20220920T184526Z
UID:10001185-1653037200-1653060600@www.hpepublichealth.ca
SUMMARY:Parkdale Community Centre COVID-19 Vaccination Clinic
DESCRIPTION:Clinic for individuals aged 5 and over for any dose of COVID-19 vaccine for which they are eligible. Eligibility criteria can be reviewed on the HPEPH COVID-19 Vaccines page. \nAppointments are required. \nAll eligible individuals who have a green Ontario photo health card (expired cards accepted) may book an appointment through the provincial booking site\, or by calling the Provincial Vaccine Contact Centre at 1-833-943-3900 from 8 am to 8 pm\, 7 days a week. \nIndividuals with a red and white Ontario health card may book an appointment through the Provincial Vaccine Contact Centre by phone at 1-833-943-3900. \nIndividuals who do not have an Ontario health card must contact HPEPH at 613-966-5500. HPEPH staff will assign a COVID ID (a unique number to be used in place of an Ontario health card number). Individuals with a COVID ID may book an appointment through the Provincial Vaccine Contact Centre by phone at 1-833-943-3900.
URL:https://www.hpepublichealth.ca/event/parkdale-community-centre-covid-19-vaccination-clinic/2022-05-20/
LOCATION:Parkdale Community Centre\, 119 Birch St\, Belleville\, Ontario\, K8P 2P7\, Canada
CATEGORIES:Clinics,COVID-19 Vaccination Clinic
END:VEVENT
BEGIN:VEVENT
DTSTART;TZID=America/Toronto:20220519T090000
DTEND;TZID=America/Toronto:20220519T153000
DTSTAMP:20260424T103321
CREATED:20220503T133833Z
LAST-MODIFIED:20220920T184526Z
UID:10001184-1652950800-1652974200@www.hpepublichealth.ca
SUMMARY:Parkdale Community Centre COVID-19 Vaccination Clinic
DESCRIPTION:Clinic for individuals aged 5 and over for any dose of COVID-19 vaccine for which they are eligible. Eligibility criteria can be reviewed on the HPEPH COVID-19 Vaccines page. \nAppointments are required. \nAll eligible individuals who have a green Ontario photo health card (expired cards accepted) may book an appointment through the provincial booking site\, or by calling the Provincial Vaccine Contact Centre at 1-833-943-3900 from 8 am to 8 pm\, 7 days a week. \nIndividuals with a red and white Ontario health card may book an appointment through the Provincial Vaccine Contact Centre by phone at 1-833-943-3900. \nIndividuals who do not have an Ontario health card must contact HPEPH at 613-966-5500. HPEPH staff will assign a COVID ID (a unique number to be used in place of an Ontario health card number). Individuals with a COVID ID may book an appointment through the Provincial Vaccine Contact Centre by phone at 1-833-943-3900.
URL:https://www.hpepublichealth.ca/event/parkdale-community-centre-covid-19-vaccination-clinic/2022-05-19/
LOCATION:Parkdale Community Centre\, 119 Birch St\, Belleville\, Ontario\, K8P 2P7\, Canada
CATEGORIES:Clinics,COVID-19 Vaccination Clinic
END:VEVENT
BEGIN:VEVENT
DTSTART;TZID=America/Toronto:20220518T090000
DTEND;TZID=America/Toronto:20220518T153000
DTSTAMP:20260424T103321
CREATED:20220503T133833Z
LAST-MODIFIED:20220920T184526Z
UID:10001183-1652864400-1652887800@www.hpepublichealth.ca
SUMMARY:Parkdale Community Centre COVID-19 Vaccination Clinic
DESCRIPTION:Clinic for individuals aged 5 and over for any dose of COVID-19 vaccine for which they are eligible. Eligibility criteria can be reviewed on the HPEPH COVID-19 Vaccines page. \nAppointments are required. \nAll eligible individuals who have a green Ontario photo health card (expired cards accepted) may book an appointment through the provincial booking site\, or by calling the Provincial Vaccine Contact Centre at 1-833-943-3900 from 8 am to 8 pm\, 7 days a week. \nIndividuals with a red and white Ontario health card may book an appointment through the Provincial Vaccine Contact Centre by phone at 1-833-943-3900. \nIndividuals who do not have an Ontario health card must contact HPEPH at 613-966-5500. HPEPH staff will assign a COVID ID (a unique number to be used in place of an Ontario health card number). Individuals with a COVID ID may book an appointment through the Provincial Vaccine Contact Centre by phone at 1-833-943-3900.
URL:https://www.hpepublichealth.ca/event/parkdale-community-centre-covid-19-vaccination-clinic/2022-05-18/
LOCATION:Parkdale Community Centre\, 119 Birch St\, Belleville\, Ontario\, K8P 2P7\, Canada
CATEGORIES:Clinics,COVID-19 Vaccination Clinic
END:VEVENT
BEGIN:VEVENT
DTSTART;TZID=America/Toronto:20220517T120000
DTEND;TZID=America/Toronto:20220517T160000
DTSTAMP:20260424T103321
CREATED:20220503T133833Z
LAST-MODIFIED:20220503T133942Z
UID:10001195-1652788800-1652803200@www.hpepublichealth.ca
SUMMARY:Parkdale Community Centre COVID-19 Vaccination Clinic
DESCRIPTION:Clinic for individuals aged 5 and over for any dose of COVID-19 vaccine for which they are eligible. Eligibility criteria can be reviewed on the HPEPH COVID-19 Vaccines page. \nAppointments are required. \nAll eligible individuals who have a green Ontario photo health card (expired cards accepted) may book an appointment through the provincial booking site\, or by calling the Provincial Vaccine Contact Centre at 1-833-943-3900 from 8 am to 8 pm\, 7 days a week. \nIndividuals with a red and white Ontario health card may book an appointment through the Provincial Vaccine Contact Centre by phone at 1-833-943-3900. \nIndividuals who do not have an Ontario health card must contact HPEPH at 613-966-5500. HPEPH staff will assign a COVID ID (a unique number to be used in place of an Ontario health card number). Individuals with a COVID ID may book an appointment through the Provincial Vaccine Contact Centre by phone at 1-833-943-3900. \nOther vaccines \nAt this time\, NACI recommends that children aged 5 to 11 receive the pediatric Pfizer-BioNTech COVID-19 vaccine at least 14 days before or after another vaccine. For individuals 12 and older\, COVID-19 vaccines may be given at the same time as\, or any time before or after\, other vaccines\, including live\, non-live\, adjuvanted or unadjuvanted vaccines.
URL:https://www.hpepublichealth.ca/event/parkdale-community-centre-covid-19-vaccination-clinic-2022-05-17/
LOCATION:Parkdale Community Centre\, 119 Birch St\, Belleville\, Ontario\, K8P 2P7\, Canada
CATEGORIES:Clinics,Immunization Clinic
END:VEVENT
BEGIN:VEVENT
DTSTART;TZID=America/Toronto:20220517T120000
DTEND;TZID=America/Toronto:20220517T160000
DTSTAMP:20260424T103321
CREATED:20220503T133833Z
LAST-MODIFIED:20220920T184526Z
UID:10001182-1652788800-1652803200@www.hpepublichealth.ca
SUMMARY:Parkdale Community Centre COVID-19 Vaccination Clinic
DESCRIPTION:Clinic for individuals aged 5 and over for any dose of COVID-19 vaccine for which they are eligible. Eligibility criteria can be reviewed on the HPEPH COVID-19 Vaccines page. \nAppointments are required. \nAll eligible individuals who have a green Ontario photo health card (expired cards accepted) may book an appointment through the provincial booking site\, or by calling the Provincial Vaccine Contact Centre at 1-833-943-3900 from 8 am to 8 pm\, 7 days a week. \nIndividuals with a red and white Ontario health card may book an appointment through the Provincial Vaccine Contact Centre by phone at 1-833-943-3900. \nIndividuals who do not have an Ontario health card must contact HPEPH at 613-966-5500. HPEPH staff will assign a COVID ID (a unique number to be used in place of an Ontario health card number). Individuals with a COVID ID may book an appointment through the Provincial Vaccine Contact Centre by phone at 1-833-943-3900.
URL:https://www.hpepublichealth.ca/event/parkdale-community-centre-covid-19-vaccination-clinic/2022-05-17/
LOCATION:Parkdale Community Centre\, 119 Birch St\, Belleville\, Ontario\, K8P 2P7\, Canada
CATEGORIES:Clinics,COVID-19 Vaccination Clinic
END:VEVENT
BEGIN:VEVENT
DTSTART;TZID=America/Toronto:20220513T090000
DTEND;TZID=America/Toronto:20220513T153000
DTSTAMP:20260424T103321
CREATED:20220503T133833Z
LAST-MODIFIED:20220920T184526Z
UID:10001181-1652432400-1652455800@www.hpepublichealth.ca
SUMMARY:Parkdale Community Centre COVID-19 Vaccination Clinic
DESCRIPTION:Clinic for individuals aged 5 and over for any dose of COVID-19 vaccine for which they are eligible. Eligibility criteria can be reviewed on the HPEPH COVID-19 Vaccines page. \nAppointments are required. \nAll eligible individuals who have a green Ontario photo health card (expired cards accepted) may book an appointment through the provincial booking site\, or by calling the Provincial Vaccine Contact Centre at 1-833-943-3900 from 8 am to 8 pm\, 7 days a week. \nIndividuals with a red and white Ontario health card may book an appointment through the Provincial Vaccine Contact Centre by phone at 1-833-943-3900. \nIndividuals who do not have an Ontario health card must contact HPEPH at 613-966-5500. HPEPH staff will assign a COVID ID (a unique number to be used in place of an Ontario health card number). Individuals with a COVID ID may book an appointment through the Provincial Vaccine Contact Centre by phone at 1-833-943-3900.
URL:https://www.hpepublichealth.ca/event/parkdale-community-centre-covid-19-vaccination-clinic/2022-05-13/
LOCATION:Parkdale Community Centre\, 119 Birch St\, Belleville\, Ontario\, K8P 2P7\, Canada
CATEGORIES:Clinics,COVID-19 Vaccination Clinic
END:VEVENT
BEGIN:VEVENT
DTSTART;TZID=America/Toronto:20220512T090000
DTEND;TZID=America/Toronto:20220512T153000
DTSTAMP:20260424T103321
CREATED:20220503T133833Z
LAST-MODIFIED:20220920T184526Z
UID:10001180-1652346000-1652369400@www.hpepublichealth.ca
SUMMARY:Parkdale Community Centre COVID-19 Vaccination Clinic
DESCRIPTION:Clinic for individuals aged 5 and over for any dose of COVID-19 vaccine for which they are eligible. Eligibility criteria can be reviewed on the HPEPH COVID-19 Vaccines page. \nAppointments are required. \nAll eligible individuals who have a green Ontario photo health card (expired cards accepted) may book an appointment through the provincial booking site\, or by calling the Provincial Vaccine Contact Centre at 1-833-943-3900 from 8 am to 8 pm\, 7 days a week. \nIndividuals with a red and white Ontario health card may book an appointment through the Provincial Vaccine Contact Centre by phone at 1-833-943-3900. \nIndividuals who do not have an Ontario health card must contact HPEPH at 613-966-5500. HPEPH staff will assign a COVID ID (a unique number to be used in place of an Ontario health card number). Individuals with a COVID ID may book an appointment through the Provincial Vaccine Contact Centre by phone at 1-833-943-3900.
URL:https://www.hpepublichealth.ca/event/parkdale-community-centre-covid-19-vaccination-clinic/2022-05-12/
LOCATION:Parkdale Community Centre\, 119 Birch St\, Belleville\, Ontario\, K8P 2P7\, Canada
CATEGORIES:Clinics,COVID-19 Vaccination Clinic
END:VEVENT
END:VCALENDAR