BEGIN:VCALENDAR
VERSION:2.0
PRODID:-//Hastings Prince Edward Public Health - ECPv6.15.20//NONSGML v1.0//EN
CALSCALE:GREGORIAN
METHOD:PUBLISH
X-ORIGINAL-URL:https://www.hpepublichealth.ca
X-WR-CALDESC:Events for Hastings Prince Edward Public Health
REFRESH-INTERVAL;VALUE=DURATION:PT1H
X-Robots-Tag:noindex
X-PUBLISHED-TTL:PT1H
BEGIN:VTIMEZONE
TZID:America/Toronto
BEGIN:DAYLIGHT
TZOFFSETFROM:-0500
TZOFFSETTO:-0400
TZNAME:EDT
DTSTART:20190310T070000
END:DAYLIGHT
BEGIN:STANDARD
TZOFFSETFROM:-0400
TZOFFSETTO:-0500
TZNAME:EST
DTSTART:20191103T060000
END:STANDARD
BEGIN:DAYLIGHT
TZOFFSETFROM:-0500
TZOFFSETTO:-0400
TZNAME:EDT
DTSTART:20200308T070000
END:DAYLIGHT
BEGIN:STANDARD
TZOFFSETFROM:-0400
TZOFFSETTO:-0500
TZNAME:EST
DTSTART:20201101T060000
END:STANDARD
BEGIN:DAYLIGHT
TZOFFSETFROM:-0500
TZOFFSETTO:-0400
TZNAME:EDT
DTSTART:20210314T070000
END:DAYLIGHT
BEGIN:STANDARD
TZOFFSETFROM:-0400
TZOFFSETTO:-0500
TZNAME:EST
DTSTART:20211107T060000
END:STANDARD
BEGIN:DAYLIGHT
TZOFFSETFROM:-0500
TZOFFSETTO:-0400
TZNAME:EDT
DTSTART:20220313T070000
END:DAYLIGHT
BEGIN:STANDARD
TZOFFSETFROM:-0400
TZOFFSETTO:-0500
TZNAME:EST
DTSTART:20221106T060000
END:STANDARD
BEGIN:DAYLIGHT
TZOFFSETFROM:-0500
TZOFFSETTO:-0400
TZNAME:EDT
DTSTART:20230312T070000
END:DAYLIGHT
BEGIN:STANDARD
TZOFFSETFROM:-0400
TZOFFSETTO:-0500
TZNAME:EST
DTSTART:20231105T060000
END:STANDARD
END:VTIMEZONE
BEGIN:VEVENT
DTSTART;TZID=America/Toronto:20220413T133000
DTEND;TZID=America/Toronto:20220413T153000
DTSTAMP:20260425T222535
CREATED:20220303T214804Z
LAST-MODIFIED:20221123T163328Z
UID:10001084-1649856600-1649863800@www.hpepublichealth.ca
SUMMARY:Quinte West Baby & Me Drop-In
DESCRIPTION:A public health nurse will weigh your baby\, provide brief one-to-one support for breastfeeding and answer your questions on infant feeding\, as well as mom’s and baby‘s health. No appointment needed.
URL:https://www.hpepublichealth.ca/event/quinte-west-baby-me-drop-in/2022-04-13/
LOCATION:Public Health Quinte West Office\, 499 Dundas Street West\, Trenton\, Ontario\, K8V 6C4
END:VEVENT
BEGIN:VEVENT
DTSTART;TZID=America/Toronto:20220406T133000
DTEND;TZID=America/Toronto:20220406T153000
DTSTAMP:20260425T222535
CREATED:20220303T214804Z
LAST-MODIFIED:20221123T163328Z
UID:10001083-1649251800-1649259000@www.hpepublichealth.ca
SUMMARY:Quinte West Baby & Me Drop-In
DESCRIPTION:A public health nurse will weigh your baby\, provide brief one-to-one support for breastfeeding and answer your questions on infant feeding\, as well as mom’s and baby‘s health. No appointment needed.
URL:https://www.hpepublichealth.ca/event/quinte-west-baby-me-drop-in/2022-04-06/
LOCATION:Public Health Quinte West Office\, 499 Dundas Street West\, Trenton\, Ontario\, K8V 6C4
END:VEVENT
BEGIN:VEVENT
DTSTART;TZID=America/Toronto:20200311T100000
DTEND;TZID=America/Toronto:20200311T150000
DTSTAMP:20260425T222535
CREATED:20191218T154133Z
LAST-MODIFIED:20191219T153115Z
UID:10001014-1583920800-1583938800@www.hpepublichealth.ca
SUMMARY:Quinte West Dental Clinic
DESCRIPTION:By appointment dental and oral health services for children and seniors. To book an appointment\, call 613-966-5500 or 1-800-267-2803\, ext. 680.
URL:https://www.hpepublichealth.ca/event/trenton-dental-clinic/2020-03-11/
LOCATION:Public Health Quinte West Office\, 499 Dundas Street West\, Trenton\, Ontario\, K8V 6C4
CATEGORIES:Dental Health Clinic
END:VEVENT
BEGIN:VEVENT
DTSTART;TZID=America/Toronto:20200212T100000
DTEND;TZID=America/Toronto:20200212T150000
DTSTAMP:20260425T222535
CREATED:20191218T154133Z
LAST-MODIFIED:20191219T153115Z
UID:10001013-1581501600-1581519600@www.hpepublichealth.ca
SUMMARY:Quinte West Dental Clinic
DESCRIPTION:By appointment dental and oral health services for children and seniors. To book an appointment\, call 613-966-5500 or 1-800-267-2803\, ext. 680.
URL:https://www.hpepublichealth.ca/event/trenton-dental-clinic/2020-02-12/
LOCATION:Public Health Quinte West Office\, 499 Dundas Street West\, Trenton\, Ontario\, K8V 6C4
CATEGORIES:Dental Health Clinic
END:VEVENT
BEGIN:VEVENT
DTSTART;TZID=America/Toronto:20200206T090000
DTEND;TZID=America/Toronto:20200206T160000
DTSTAMP:20260425T222535
CREATED:20191222T193105Z
LAST-MODIFIED:20200128T215808Z
UID:10001044-1580979600-1581004800@www.hpepublichealth.ca
SUMMARY:Quinte West Food Handler Training
DESCRIPTION:This class provides instruction on the safe preparation\, cooking and storage of food in home and commercial kitchens. Upon successful completion of the exam\, a Food Handler Training certificate is earned\, which remains valid for 5 years. Be sure you can attend before you register\, as there are NO REFUNDS.
URL:https://www.hpepublichealth.ca/event/quinte-west-food-handler-training/
LOCATION:Public Health Quinte West Office\, 499 Dundas Street West\, Trenton\, Ontario\, K8V 6C4
CATEGORIES:Food Handler Training Course
ORGANIZER;CN="Healthy Environments Program":MAILTO:EHFax1@hpeph.ca
END:VEVENT
BEGIN:VEVENT
DTSTART;TZID=America/Toronto:20200108T100000
DTEND;TZID=America/Toronto:20200108T150000
DTSTAMP:20260425T222535
CREATED:20191218T154133Z
LAST-MODIFIED:20191219T153115Z
UID:10001012-1578477600-1578495600@www.hpepublichealth.ca
SUMMARY:Quinte West Dental Clinic
DESCRIPTION:By appointment dental and oral health services for children and seniors. To book an appointment\, call 613-966-5500 or 1-800-267-2803\, ext. 680.
URL:https://www.hpepublichealth.ca/event/trenton-dental-clinic/2020-01-08/
LOCATION:Public Health Quinte West Office\, 499 Dundas Street West\, Trenton\, Ontario\, K8V 6C4
CATEGORIES:Dental Health Clinic
END:VEVENT
END:VCALENDAR